BEGIN:VCALENDAR
VERSION:2.0
PRODID:icalendar-ruby
CALSCALE:GREGORIAN
BEGIN:VEVENT
DTSTAMP:20260425T160232Z
UID:8fe997a4-f776-4562-a8b7-385747ffbe4d
DTSTART;VALUE=DATE:20210520
DESCRIPTION:Property ID# 508487\, Locatoin: 98 Moorhouse Avenue\, Christchu
 rch\, Time: 12:00PM
SUMMARY:Auction for 
END:VEVENT
END:VCALENDAR
