BEGIN:VCALENDAR
VERSION:2.0
PRODID:icalendar-ruby
CALSCALE:GREGORIAN
BEGIN:VEVENT
DTSTAMP:20260425T154410Z
UID:9a9f3937-452b-4e0a-acea-e14194df7651
DTSTART;VALUE=DATE:20211020
DESCRIPTION:Property ID# 518445\, Time: 4:00PM
SUMMARY:Auction for 
END:VEVENT
END:VCALENDAR
