BEGIN:VCALENDAR
VERSION:2.0
PRODID:icalendar-ruby
CALSCALE:GREGORIAN
BEGIN:VEVENT
DTSTAMP:20260425T154908Z
UID:1e7157db-69e7-418e-a69a-0388b23f1d60
DTSTART;VALUE=DATE:20220303
DESCRIPTION:Property ID# 528891\, Locatoin: 98 Moorhouse Avenue\, Time: 11:
 00AM
SUMMARY:Auction for 
END:VEVENT
END:VCALENDAR
