BEGIN:VCALENDAR
VERSION:2.0
PRODID:icalendar-ruby
CALSCALE:GREGORIAN
BEGIN:VEVENT
DTSTAMP:20260425T154612Z
UID:10c57a21-eecf-43ad-abce-6305a1b14bf8
DTSTART;VALUE=DATE:20220317
DESCRIPTION:Property ID# 530379\, Locatoin: 98 Moorhouse Avenue\, Time: 11:
 00AM
SUMMARY:Auction for 
END:VEVENT
END:VCALENDAR
