BEGIN:VCALENDAR
VERSION:2.0
PRODID:icalendar-ruby
CALSCALE:GREGORIAN
BEGIN:VEVENT
DTSTAMP:20260425T113626Z
UID:31ffbb38-085c-4696-a515-f17f0745adac
DTSTART;VALUE=DATE:20221201
DESCRIPTION:Property ID# 547316\, Locatoin: Harcourts Grenadier\, 98 Moorho
 use Avenue (unless sold prior)\, Time: 11:00AM
SUMMARY:Auction for 
END:VEVENT
END:VCALENDAR
