BEGIN:VCALENDAR
VERSION:2.0
PRODID:icalendar-ruby
CALSCALE:GREGORIAN
BEGIN:VEVENT
DTSTAMP:20260421T202600Z
UID:e74205eb-b3d1-41c2-8364-b7aceae7e966
DTSTART;VALUE=DATE:20250320
DESCRIPTION:Property ID# 588954\, Time: 2:00PM
SUMMARY:Auction for 
END:VEVENT
END:VCALENDAR
