BEGIN:VCALENDAR
VERSION:2.0
PRODID:icalendar-ruby
CALSCALE:GREGORIAN
BEGIN:VEVENT
DTSTAMP:20260424T095410Z
UID:2456703b-3d94-4a6b-8a4d-d0ac1278bffa
DTSTART;VALUE=DATE:20250410
DESCRIPTION:Property ID# 590342\, Time: 4:00PM
SUMMARY:Auction for 
END:VEVENT
END:VCALENDAR
