BEGIN:VCALENDAR
VERSION:2.0
PRODID:icalendar-ruby
CALSCALE:GREGORIAN
BEGIN:VEVENT
DTSTAMP:20260423T000229Z
UID:5d2f8c25-5ecb-47d7-87d3-a809582fe4b8
DTSTART;VALUE=DATE:20250703
DESCRIPTION:Property ID# 593912\, Locatoin: Harcourts Grenadier 98 Moorhous
 e Avenue\, Time: 11:00AM
SUMMARY:Auction for 
END:VEVENT
END:VCALENDAR
