BEGIN:VCALENDAR
VERSION:2.0
PRODID:icalendar-ruby
CALSCALE:GREGORIAN
BEGIN:VEVENT
DTSTAMP:20260422T025306Z
UID:ab39d239-6c53-4a40-b2a0-ddb3ceed0cb0
DTSTART;VALUE=DATE:20250730
DESCRIPTION:Property ID# 594739\, Time: 12:00PM
SUMMARY:Auction for 
END:VEVENT
END:VCALENDAR
