BEGIN:VCALENDAR
VERSION:2.0
PRODID:icalendar-ruby
CALSCALE:GREGORIAN
BEGIN:VEVENT
DTSTAMP:20260423T000013Z
UID:ac9b6b81-2e9f-4e17-850a-686eb49bf4b8
DTSTART;VALUE=DATE:20250821
DESCRIPTION:Property ID# 595098\, Locatoin: Harcourts Grenadier 98 Moorhous
 e Avenue\, Time: 11:00AM
SUMMARY:Auction for 
END:VEVENT
END:VCALENDAR
