BEGIN:VCALENDAR
VERSION:2.0
PRODID:icalendar-ruby
CALSCALE:GREGORIAN
BEGIN:VEVENT
DTSTAMP:20260423T000653Z
UID:416afc25-a5f0-4f94-8c3f-4aa142df7019
DTSTART;VALUE=DATE:20250828
DESCRIPTION:Property ID# 595670\, Locatoin: Harcourts Grenadier 98 Moorhous
 e Avenue\, Time: 11:00AM
SUMMARY:Auction for 
END:VEVENT
END:VCALENDAR
