BEGIN:VCALENDAR
VERSION:2.0
PRODID:icalendar-ruby
CALSCALE:GREGORIAN
BEGIN:VEVENT
DTSTAMP:20260423T000542Z
UID:6d687ee3-c028-4929-9293-583837fbf846
DTSTART;VALUE=DATE:20251016
DESCRIPTION:Property ID# 597860\, Locatoin: Harcourts Grenadier 98 Moorhous
 e Avenue\, Time: 11:00AM
SUMMARY:Auction for 
END:VEVENT
END:VCALENDAR
