BEGIN:VCALENDAR
VERSION:2.0
PRODID:icalendar-ruby
CALSCALE:GREGORIAN
BEGIN:VEVENT
DTSTAMP:20260423T000413Z
UID:bac51f24-339a-4f29-97db-7244215a4816
DTSTART;VALUE=DATE:20260210
DESCRIPTION:Property ID# 602493\, Time: 2:00PM
SUMMARY:Auction for 
END:VEVENT
END:VCALENDAR
