BEGIN:VCALENDAR
VERSION:2.0
PRODID:icalendar-ruby
CALSCALE:GREGORIAN
BEGIN:VEVENT
DTSTAMP:20260422T235917Z
UID:41fb1b82-2a89-48e9-8af6-26bdac5bee2e
DTSTART;VALUE=DATE:20260226
DESCRIPTION:Property ID# 602495\, Locatoin: Harcourts Grenadier 98 Moorhous
 e Avenue\, Time: 11:00AM
SUMMARY:Auction for 
END:VEVENT
END:VCALENDAR
