BEGIN:VCALENDAR
VERSION:2.0
PRODID:icalendar-ruby
CALSCALE:GREGORIAN
BEGIN:VEVENT
DTSTAMP:20260423T064713Z
UID:6d15aaac-4531-4a81-9947-c6aa89bc4ae7
DTSTART;VALUE=DATE:20260423
DESCRIPTION:Property ID# 605316\, Locatoin: Harcourts Grenadier\, 98 Moorho
 use Avenue (unless sold prior)\, Time: 11:00AM
SUMMARY:Auction for 100 Gardiners Road
END:VEVENT
END:VCALENDAR
