BEGIN:VCALENDAR
VERSION:2.0
PRODID:icalendar-ruby
CALSCALE:GREGORIAN
BEGIN:VEVENT
DTSTAMP:20260423T000351Z
UID:fec77eff-3faf-4234-9c2a-9ab41b5fe90d
DTSTART;VALUE=DATE:20260409
DESCRIPTION:Property ID# 605453\, Locatoin: Harcourts Grenadier 98 Moorhous
 e Avenue\, Time: 11:00AM
SUMMARY:Auction for 
END:VEVENT
END:VCALENDAR
