BEGIN:VCALENDAR
VERSION:2.0
PRODID:icalendar-ruby
CALSCALE:GREGORIAN
BEGIN:VEVENT
DTSTAMP:20260422T235952Z
UID:cf70d51d-ee9e-4edf-960a-7da0b4720dd0
DTSTART;VALUE=DATE:20260416
DESCRIPTION:Property ID# 605795\, Locatoin: Harcourts Grenadier 98 Moorhous
 e Avenue\, Time: 11:00AM
SUMMARY:Auction for 5 Ashbrook Lane
END:VEVENT
END:VCALENDAR
